BEGIN:VCALENDAR
VERSION:2.0
PRODID:-//Plone.org//NONSGML plone.app.event//EN
X-WR-TIMEZONE:Europe/Madrid
BEGIN:VEVENT
SUMMARY:ESPECTACLE INFANTIL SHOWCASE ANIMALIA
DTSTART;TZID=Europe/Madrid;VALUE=DATE-TIME:20201212T110000
DTEND;TZID=Europe/Madrid;VALUE=DATE-TIME:20201212T120000
DTSTAMP;VALUE=DATE-TIME:20260425T021657Z
UID:ecadbad5175324ae50923fd7313c959d
CREATED;VALUE=DATE-TIME:20201212T000000Z
CATEGORIES:Infantils
LOCATION:Pèrgola Can Muntanyà - Parc Can Muntanyà
URL:https://caldetes.cat/document.php?id=8042
END:VEVENT
END:VCALENDAR