BEGIN:VCALENDAR
VERSION:2.0
PRODID:-//Plone.org//NONSGML plone.app.event//EN
X-WR-TIMEZONE:Europe/Madrid
BEGIN:VEVENT
SUMMARY:MÚSICA AL PARC
DTSTART;TZID=Europe/Madrid;VALUE=DATE-TIME:20201213T113000
DTEND;TZID=Europe/Madrid;VALUE=DATE-TIME:20201213T123000
DTSTAMP;VALUE=DATE-TIME:20260424T213059Z
UID:9e69cb53330bc651523e122d5601729b
CREATED;VALUE=DATE-TIME:20201213T000000Z
CATEGORIES:Música
LOCATION:Pèrgola Can Muntanyà - Parc Can Muntanyà
DESCRIPTION:Amb SUKARIJE (música tradicional  dels Balcans)  i CALUPOH ACOUSTIC BLUES DUO
URL:https://caldetes.cat/document.php?id=8044
END:VEVENT
END:VCALENDAR