BEGIN:VCALENDAR
VERSION:2.0
PRODID:-//Plone.org//NONSGML plone.app.event//EN
X-WR-TIMEZONE:Europe/Madrid
BEGIN:VEVENT
SUMMARY:Cine Club
DTSTART;TZID=Europe/Madrid;VALUE=DATE-TIME:20101001T220000
DTEND;TZID=Europe/Madrid;VALUE=DATE-TIME:20101001T230000
DTSTAMP;VALUE=DATE-TIME:20260424T073716Z
UID:5073f633f22be70ff34549c9ac556a5b
CREATED;VALUE=DATE-TIME:20101001T000000Z
LOCATION:Sala Cultural
ORGANIZER:Associació Esportiva Mar i Natura
DESCRIPTION:&OpenCurlyDoubleQuote;El temps dels gitanos&CloseCurlyDoubleQuote; d´Emir Kusturica
URL:https://caldetes.cat/document.php?id=810
END:VEVENT
END:VCALENDAR