BEGIN:VCALENDAR
VERSION:2.0
PRODID:-//Plone.org//NONSGML plone.app.event//EN
X-WR-TIMEZONE:Europe/Madrid
BEGIN:VEVENT
SUMMARY:Els diumenges de la Fundació
DTSTART;TZID=Europe/Madrid;VALUE=DATE-TIME:20101003T120000
DTEND;TZID=Europe/Madrid;VALUE=DATE-TIME:20101003T130000
DTSTAMP;VALUE=DATE-TIME:20260423T055420Z
UID:03b1e8d7abd458d862d8568e9c6f80c2
CREATED;VALUE=DATE-TIME:20101003T000000Z
LOCATION:Fundació Palau
ORGANIZER:Fundació Palau
DESCRIPTION:"Sóc un pallasso" a càrrec de Claret Clown
URL:https://caldetes.cat/document.php?id=811
END:VEVENT
END:VCALENDAR