BEGIN:VCALENDAR
VERSION:2.0
PRODID:-//Plone.org//NONSGML plone.app.event//EN
X-WR-TIMEZONE:Europe/Madrid
BEGIN:VEVENT
SUMMARY:HORA DEL CONTE VIRTUAL: "Contes pocasoltes per un bon carnestoltes"
DTSTART;TZID=Europe/Madrid;VALUE=DATE-TIME:20210212T000000
DTEND;TZID=Europe/Madrid;VALUE=DATE-TIME:20210212T010000
DTSTAMP;VALUE=DATE-TIME:20260422T011258Z
UID:d55dfe9b865f4148d0c1dfb317a50dc3
CREATED;VALUE=DATE-TIME:20210212T000000Z
CATEGORIES:Literatura,Infantils
LOCATION:A INSTAGRAM: @bcanmilans
ORGANIZER:Biblioteca Can Milans
COMMENT:Durada: Disponible a l'Instagram de la biblioteca, del 12 al 15 de febrer.
DESCRIPTION:A càrrec d'Elena Codó
URL:https://caldetes.cat/document.php?id=8120
END:VEVENT
END:VCALENDAR