BEGIN:VCALENDAR
VERSION:2.0
PRODID:-//Plone.org//NONSGML plone.app.event//EN
X-WR-TIMEZONE:Europe/Madrid
BEGIN:VEVENT
SUMMARY:ELS DIJOUS A LA PALAU
DTSTART;TZID=Europe/Madrid;VALUE=DATE-TIME:20210304T183000
DTEND;TZID=Europe/Madrid;VALUE=DATE-TIME:20210304T193000
DTSTAMP;VALUE=DATE-TIME:20260426T024709Z
UID:3861785595cef456d3de229ad7a20b2e
CREATED;VALUE=DATE-TIME:20210304T000000Z
CATEGORIES:Literatura,Conferència
LOCATION:Fundació Palau - La Riera, 54
ORGANIZER:Fundació Palau
COMMENT:Preu: Gratuït
Durada: 1h30
URL:https://caldetes.cat/document.php?id=8134
END:VEVENT
END:VCALENDAR