BEGIN:VCALENDAR
VERSION:2.0
PRODID:-//Plone.org//NONSGML plone.app.event//EN
X-WR-TIMEZONE:Europe/Madrid
BEGIN:VEVENT
SUMMARY:D'un roig encès: Picasso, Miró, Palau i Fabre i Perucho
DTSTART;TZID=Europe/Madrid;VALUE=DATE-TIME:20210919T120000
DTEND;TZID=Europe/Madrid;VALUE=DATE-TIME:20210919T130000
DTSTAMP;VALUE=DATE-TIME:20260423T062442Z
UID:05e6bce1914aa2154631e9e6322da8d6
CREATED;VALUE=DATE-TIME:20210508T000000Z
CATEGORIES:Exposició
LOCATION:Fundació Palau - La Riera, 54
ORGANIZER:Fundació Palau
DESCRIPTION:Nova exposició temporal
URL:https://caldetes.cat/document.php?id=8135
END:VEVENT
END:VCALENDAR