BEGIN:VCALENDAR
VERSION:2.0
PRODID:-//Plone.org//NONSGML plone.app.event//EN
X-WR-TIMEZONE:Europe/Madrid
BEGIN:VEVENT
SUMMARY:El món escenogràfic de la literatura de Palau i Fabre. Cicle Josep Palau i Fabre. Retrat inacabat.
DTSTART;TZID=Europe/Madrid;VALUE=DATE-TIME:20210501T120000
DTEND;TZID=Europe/Madrid;VALUE=DATE-TIME:20210501T130000
DTSTAMP;VALUE=DATE-TIME:20260422T030613Z
UID:c3128206c6c1a27c17161164e54c4166
CREATED;VALUE=DATE-TIME:20210501T000000Z
CATEGORIES:Conferència
LOCATION:Fundació Palau - La Riera, 54
ORGANIZER:Fundació Palau
COMMENT:Preu: Gratuït
DESCRIPTION:A càrrec de Bibiana Puigdefàbregas
URL:https://caldetes.cat/document.php?id=8136
END:VEVENT
END:VCALENDAR