BEGIN:VCALENDAR
VERSION:2.0
PRODID:-//Plone.org//NONSGML plone.app.event//EN
X-WR-TIMEZONE:Europe/Madrid
BEGIN:VEVENT
SUMMARY:TEATRE INFANTIL "Una carretada de contes"
DTSTART;TZID=Europe/Madrid;VALUE=DATE-TIME:20210321T180000
DTEND;TZID=Europe/Madrid;VALUE=DATE-TIME:20210321T190000
DTSTAMP;VALUE=DATE-TIME:20260422T014344Z
UID:f3f9e9b1fcfc267a99647a0d432a96d6
CREATED;VALUE=DATE-TIME:20210321T000000Z
CATEGORIES:Infantils,Teatre
LOCATION:Sala Cultural - 1r pis de l'Ajuntament de Caldes d'Estrac, Pl. de la Vila s/n
ORGANIZER:Àrea de Cultura - Cicle d'Arts Escèniques i Culturals - Calderart
COMMENT:Preu: Gratuït
URL:https://caldetes.cat/document.php?id=8152
END:VEVENT
END:VCALENDAR