BEGIN:VCALENDAR
VERSION:2.0
PRODID:-//Plone.org//NONSGML plone.app.event//EN
X-WR-TIMEZONE:Europe/Madrid
BEGIN:VEVENT
SUMMARY:CLUB DE LECTURA VIRTUAL "5 de Negra"
DTSTART;TZID=Europe/Madrid;VALUE=DATE-TIME:20210320T110000
DTEND;TZID=Europe/Madrid;VALUE=DATE-TIME:20210320T120000
DTSTAMP;VALUE=DATE-TIME:20260425T122320Z
UID:0e73e091b64245163f87f202e53012dd
CREATED;VALUE=DATE-TIME:20210320T000000Z
LOCATION:ZOOM
ORGANIZER:Biblioteca Can Milans
DESCRIPTION:"El falcó maltès" de Dashiell Hammett
URL:https://caldetes.cat/document.php?id=8153
END:VEVENT
END:VCALENDAR