BEGIN:VCALENDAR
VERSION:2.0
PRODID:-//Plone.org//NONSGML plone.app.event//EN
X-WR-TIMEZONE:Europe/Madrid
BEGIN:VEVENT
SUMMARY:HORA DEL CONTE VIRTUAL "Sota les sabates"
DTSTART;TZID=Europe/Madrid;VALUE=DATE-TIME:20210312T000000
DTEND;TZID=Europe/Madrid;VALUE=DATE-TIME:20210312T010000
DTSTAMP;VALUE=DATE-TIME:20260422T205322Z
UID:1b7508f6ab4fd47e30608224d13ca97e
CREATED;VALUE=DATE-TIME:20210312T000000Z
CATEGORIES:Literatura,Infantils
LOCATION:A INSTAGRAM: @bcanmilans
ORGANIZER:Biblioteca Can Milans
COMMENT:Durada: Disponible tots els dies a l'Instagram de la biblioteca, del 12 al 15 de març.
DESCRIPTION:A càrrec d'Ada Cusidó
URL:https://caldetes.cat/document.php?id=8155
END:VEVENT
END:VCALENDAR