BEGIN:VCALENDAR
VERSION:2.0
PRODID:-//Plone.org//NONSGML plone.app.event//EN
X-WR-TIMEZONE:Europe/Madrid
BEGIN:VEVENT
SUMMARY:Hora del conte, "Contes de la lluna" a càrrec de Verònica Lluna, a Can Milans
DTSTART;TZID=Europe/Madrid;VALUE=DATE-TIME:20101022T183000
DTEND;TZID=Europe/Madrid;VALUE=DATE-TIME:20101022T193000
DTSTAMP;VALUE=DATE-TIME:20260422T105909Z
UID:47e6883a9d5971d351faa328e1bb13e9
CREATED;VALUE=DATE-TIME:20101022T000000Z
LOCATION:Biblioteca Can Milans
ORGANIZER:Biblioteca Can Milans
URL:https://caldetes.cat/document.php?id=817
END:VEVENT
END:VCALENDAR