BEGIN:VCALENDAR
VERSION:2.0
PRODID:-//Plone.org//NONSGML plone.app.event//EN
X-WR-TIMEZONE:Europe/Madrid
BEGIN:VEVENT
SUMMARY:Inauguració de la nova exposició permanent de la Fundació Palau i Inauguració de l'exposició temporal "Antoni Tàpies. Mira la mà..."
DTSTART;TZID=Europe/Madrid;VALUE=DATE-TIME:20101024T123000
DTEND;TZID=Europe/Madrid;VALUE=DATE-TIME:20101024T133000
DTSTAMP;VALUE=DATE-TIME:20260423T173757Z
UID:219b0ca4fa250a43e0bfd217501bf20b
CREATED;VALUE=DATE-TIME:20101024T000000Z
LOCATION:Fundació Palau
ORGANIZER:Fundació Palau
URL:https://caldetes.cat/document.php?id=818
END:VEVENT
END:VCALENDAR