BEGIN:VCALENDAR
VERSION:2.0
PRODID:-//Plone.org//NONSGML plone.app.event//EN
X-WR-TIMEZONE:Europe/Madrid
BEGIN:VEVENT
SUMMARY:Conferència: "Trastorns en l'aprenentatge en els infants"
DTSTART;TZID=Europe/Madrid;VALUE=DATE-TIME:20101023T190000
DTEND;TZID=Europe/Madrid;VALUE=DATE-TIME:20101023T200000
DTSTAMP;VALUE=DATE-TIME:20260421T095156Z
UID:8af79284dc2a10f4d54a8950af5c8611
CREATED;VALUE=DATE-TIME:20101023T000000Z
LOCATION:Sala Cultural
ORGANIZER:Associació de Dones de Caldes d'Estrac amb la col·laboració de l'Ajuntament de Caldes d'Estrac i la Fundació Palau
DESCRIPTION:A càrrec de Bea Màrquez, psicòloga
URL:https://caldetes.cat/document.php?id=819
END:VEVENT
END:VCALENDAR