BEGIN:VCALENDAR
VERSION:2.0
PRODID:-//Plone.org//NONSGML plone.app.event//EN
X-WR-TIMEZONE:Europe/Madrid
BEGIN:VEVENT
SUMMARY:Ball popular
DTSTART;TZID=Europe/Madrid;VALUE=DATE-TIME:20101024T190000
DTEND;TZID=Europe/Madrid;VALUE=DATE-TIME:20101024T200000
DTSTAMP;VALUE=DATE-TIME:20260423T115011Z
UID:298cfc65eceaa74975202be42f99cc77
CREATED;VALUE=DATE-TIME:20101024T000000Z
LOCATION:Sala Cultural
ORGANIZER:Agrupació de Pensionistes i Tercera Edat
URL:https://caldetes.cat/document.php?id=820
END:VEVENT
END:VCALENDAR