BEGIN:VCALENDAR
VERSION:2.0
PRODID:-//Plone.org//NONSGML plone.app.event//EN
X-WR-TIMEZONE:Europe/Madrid
BEGIN:VEVENT
SUMMARY:Castanyada i Ball popular
DTSTART;TZID=Europe/Madrid;VALUE=DATE-TIME:20101030T173000
DTEND;TZID=Europe/Madrid;VALUE=DATE-TIME:20101030T183000
DTSTAMP;VALUE=DATE-TIME:20260422T140357Z
UID:80caacc20b11ef9f8d61672d6acecbb7
CREATED;VALUE=DATE-TIME:20101030T000000Z
LOCATION:Sala Cultural
ORGANIZER:Agrupació de Pensionistes i Tercera Edat
URL:https://caldetes.cat/document.php?id=821
END:VEVENT
END:VCALENDAR