BEGIN:VCALENDAR
VERSION:2.0
PRODID:-//Plone.org//NONSGML plone.app.event//EN
X-WR-TIMEZONE:Europe/Madrid
BEGIN:VEVENT
SUMMARY:Música al Parc
DTSTART;TZID=Europe/Madrid;VALUE=DATE-TIME:20210404T113000
DTEND;TZID=Europe/Madrid;VALUE=DATE-TIME:20210404T123000
DTSTAMP;VALUE=DATE-TIME:20260423T062227Z
UID:e3e558a6401a9fab386996b32a010890
CREATED;VALUE=DATE-TIME:20210404T000000Z
CATEGORIES:Música
LOCATION:Pèrgola Can Muntanyà - Parc Can Muntanyà
ORGANIZER:Associació Cultural Camí Ral 39 Cultura i Verdura i Àrea de Cultura
DESCRIPTION:Amb El viatge de Laura i Rémi
URL:https://caldetes.cat/document.php?id=8227
END:VEVENT
END:VCALENDAR