BEGIN:VCALENDAR
VERSION:2.0
PRODID:-//Plone.org//NONSGML plone.app.event//EN
X-WR-TIMEZONE:Europe/Madrid
BEGIN:VEVENT
SUMMARY:Curs d'atenció domiciliària infantil - Cangur
DTSTART;TZID=Europe/Madrid;VALUE=DATE-TIME:20210417T100000
DTEND;TZID=Europe/Madrid;VALUE=DATE-TIME:20210417T110000
DTSTAMP;VALUE=DATE-TIME:20260423T222345Z
UID:d324bef7c492fc175cda3c371f5f2135
CREATED;VALUE=DATE-TIME:20210417T000000Z
CATEGORIES:Cursos
LOCATION:Espai Jove - La Fabriqueta (La Riera 5-9, entrada per Camí Ral).
ORGANIZER:Àrea de Joventut
COMMENT:Durada: HORA: 10:00 h a 14:00 h i de 16:00 h a 20:00 h
URL:https://caldetes.cat/document.php?id=8229
END:VEVENT
END:VCALENDAR