BEGIN:VCALENDAR
VERSION:2.0
PRODID:-//Plone.org//NONSGML plone.app.event//EN
X-WR-TIMEZONE:Europe/Madrid
BEGIN:VEVENT
SUMMARY:Taller de relats
DTSTART;TZID=Europe/Madrid;VALUE=DATE-TIME:20210422T170000
DTEND;TZID=Europe/Madrid;VALUE=DATE-TIME:20210422T180000
DTSTAMP;VALUE=DATE-TIME:20260424T174726Z
UID:c64f4b2a501ee27c40ad8043a0f568f7
CREATED;VALUE=DATE-TIME:20210422T000000Z
CATEGORIES:Cursos
LOCATION:Espai Jove - La Fabriqueta (La Riera 5-9, entrada per Camí Ral).
ORGANIZER:Àrea de Joventut
COMMENT:Durada: HORA: 17:00 h a 20:00 h
URL:https://caldetes.cat/document.php?id=8230
END:VEVENT
END:VCALENDAR