BEGIN:VCALENDAR
VERSION:2.0
PRODID:-//Plone.org//NONSGML plone.app.event//EN
X-WR-TIMEZONE:Europe/Madrid
BEGIN:VEVENT
SUMMARY:Presentació del llibre "Mi experiencia ingresado en el psiquiátrico"
DTSTART;TZID=Europe/Madrid;VALUE=DATE-TIME:20210423T180000
DTEND;TZID=Europe/Madrid;VALUE=DATE-TIME:20210423T190000
DTSTAMP;VALUE=DATE-TIME:20260423T074145Z
UID:b81f05860a26a3e76e54c9a16dd90241
CREATED;VALUE=DATE-TIME:20210423T000000Z
CATEGORIES:Literatura
LOCATION:Espai Jove - La Fabriqueta (La Riera 5-9, entrada per Camí Ral).
ORGANIZER:Àrea de Joventut
DESCRIPTION:Amb la participació de l'autor Andy Fuentes i la psicòloga Maria de los Angeles Cruz
URL:https://caldetes.cat/document.php?id=8231
END:VEVENT
END:VCALENDAR