BEGIN:VCALENDAR
VERSION:2.0
PRODID:-//Plone.org//NONSGML plone.app.event//EN
X-WR-TIMEZONE:Europe/Madrid
BEGIN:VEVENT
SUMMARY:Hora del Conte "Sant Jordi i altres contes populars catalans"
DTSTART;TZID=Europe/Madrid;VALUE=DATE-TIME:20210424T110000
DTEND;TZID=Europe/Madrid;VALUE=DATE-TIME:20210424T120000
DTSTAMP;VALUE=DATE-TIME:20260422T040722Z
UID:70b27c3ff43e784acdf37de3108cc74c
CREATED;VALUE=DATE-TIME:20210424T000000Z
CATEGORIES:Infantils
LOCATION:Pèrgola Can Muntanyà - Parc Can Muntanyà
ORGANIZER:Biblioteca Can Milans, Fundació Palau i Ajuntament de Caldes d'Estrac
DESCRIPTION:A càrrec de Joan de Boer
URL:https://caldetes.cat/document.php?id=8235
END:VEVENT
END:VCALENDAR