BEGIN:VCALENDAR
VERSION:2.0
PRODID:-//Plone.org//NONSGML plone.app.event//EN
X-WR-TIMEZONE:Europe/Madrid
BEGIN:VEVENT
SUMMARY:Concert de Carles Belda
DTSTART;TZID=Europe/Madrid;VALUE=DATE-TIME:20210424T130000
DTEND;TZID=Europe/Madrid;VALUE=DATE-TIME:20210424T140000
DTSTAMP;VALUE=DATE-TIME:20260423T002313Z
UID:665db1515511673946e361849ba49004
CREATED;VALUE=DATE-TIME:20210424T000000Z
CATEGORIES:Música
LOCATION:Pèrgola Can Muntanyà - Parc Can Muntanyà
ORGANIZER:Fundació Palau, Biblioteca Can Milans i Ajuntament de Caldes d'Estrac
COMMENT:Preu: Gratuït
DESCRIPTION:"EL ROMANÇ DE LES HISTÒRIES NATURALS. ESCENES DE LA PRIMERA GUERRA CARLINA I DEL TEMPS DELS VAMPIRS. A PARTIR DE LA NOVEL·LA DE JOAN PERUCHO"
URL:https://caldetes.cat/document.php?id=8256
END:VEVENT
END:VCALENDAR