BEGIN:VCALENDAR
VERSION:2.0
PRODID:-//Plone.org//NONSGML plone.app.event//EN
X-WR-TIMEZONE:Europe/Madrid
BEGIN:VEVENT
SUMMARY:Presentació del llibre "Dones poetes de la Maresma"
DTSTART;TZID=Europe/Madrid;VALUE=DATE-TIME:20210327T120000
DTEND;TZID=Europe/Madrid;VALUE=DATE-TIME:20210327T130000
DTSTAMP;VALUE=DATE-TIME:20260422T080801Z
UID:edce7d887b394d713db0680fd3e921d5
CREATED;VALUE=DATE-TIME:20210327T000000Z
CATEGORIES:Literatura
LOCATION:Fundació Palau - La Riera, 54
ORGANIZER:Fundació Palau i Voliana Edicions
COMMENT:Preu: Lliure
DESCRIPTION:A càrrec d'Emília Illamola i Queralt Morros
URL:https://caldetes.cat/document.php?id=8257
END:VEVENT
END:VCALENDAR