BEGIN:VCALENDAR
VERSION:2.0
PRODID:-//Plone.org//NONSGML plone.app.event//EN
X-WR-TIMEZONE:Europe/Madrid
BEGIN:VEVENT
SUMMARY:Petanca. Melés
DTSTART;TZID=Europe/Madrid;VALUE=DATE-TIME:20101023T163000
DTEND;TZID=Europe/Madrid;VALUE=DATE-TIME:20101023T173000
DTSTAMP;VALUE=DATE-TIME:20260422T030759Z
UID:352f16de985327ad3f4eae5f4fcfd61a
CREATED;VALUE=DATE-TIME:20101023T000000Z
LOCATION:Pistes Municipals de Petanca
ORGANIZER:Club Petanca Caldes d'Estrac
URL:https://caldetes.cat/document.php?id=826
END:VEVENT
END:VCALENDAR