BEGIN:VCALENDAR
VERSION:2.0
PRODID:-//Plone.org//NONSGML plone.app.event//EN
X-WR-TIMEZONE:Europe/Madrid
BEGIN:VEVENT
SUMMARY:Cuina sense pares
DTSTART;TZID=Europe/Madrid;VALUE=DATE-TIME:20210521T173000
DTEND;TZID=Europe/Madrid;VALUE=DATE-TIME:20210521T183000
DTSTAMP;VALUE=DATE-TIME:20260423T173515Z
UID:c43176e0c7a6ad292926a1aad575d22d
CREATED;VALUE=DATE-TIME:20210521T000000Z
CATEGORIES:Cursos
LOCATION:Espai Jove - La Fabriqueta (La Riera 5-9, entrada per Camí Ral).
ORGANIZER:Àrea de Joventut
URL:https://caldetes.cat/document.php?id=8299
END:VEVENT
END:VCALENDAR