BEGIN:VCALENDAR
VERSION:2.0
PRODID:-//Plone.org//NONSGML plone.app.event//EN
X-WR-TIMEZONE:Europe/Madrid
BEGIN:VEVENT
SUMMARY:Curs d'Anglès + Drets Laborals
DTSTART;TZID=Europe/Madrid;VALUE=DATE-TIME:20210520T170000
DTEND;TZID=Europe/Madrid;VALUE=DATE-TIME:20210520T180000
DTSTAMP;VALUE=DATE-TIME:20260423T135840Z
UID:49cc9f97bc0dd85cba168ba404a3efa6
CREATED;VALUE=DATE-TIME:20210520T000000Z
CATEGORIES:Cursos
LOCATION:Espai Jove - La Fabriqueta (La Riera 5-9, entrada per Camí Ral).
URL:https://caldetes.cat/document.php?id=8300
END:VEVENT
END:VCALENDAR