BEGIN:VCALENDAR
VERSION:2.0
PRODID:-//Plone.org//NONSGML plone.app.event//EN
X-WR-TIMEZONE:Europe/Madrid
BEGIN:VEVENT
SUMMARY:Musica al Parc
DTSTART;TZID=Europe/Madrid;VALUE=DATE-TIME:20210516T113000
DTEND;TZID=Europe/Madrid;VALUE=DATE-TIME:20210516T123000
DTSTAMP;VALUE=DATE-TIME:20260423T203012Z
UID:dbb97647d5911baa4751c4457d2af859
CREATED;VALUE=DATE-TIME:20210516T000000Z
CATEGORIES:Música
LOCATION:Pèrgola Can Muntanyà - Parc Can Muntanyà
ORGANIZER:Associació Cultural Camí Ral 39 Cultura i Verdura i Àrea de Cultura
COMMENT:Preu: Gratuït
DESCRIPTION:Amb Duo Los Mil Hombres
URL:https://caldetes.cat/document.php?id=8301
END:VEVENT
END:VCALENDAR