BEGIN:VCALENDAR
VERSION:2.0
PRODID:-//Plone.org//NONSGML plone.app.event//EN
X-WR-TIMEZONE:Europe/Madrid
BEGIN:VEVENT
SUMMARY:CLUB DE LECTURA VIRTUAL &OpenCurlyDoubleQuote;5 de Negra&CloseCurlyDoubleQuote;
DTSTART;TZID=Europe/Madrid;VALUE=DATE-TIME:20210515T110000
DTEND;TZID=Europe/Madrid;VALUE=DATE-TIME:20210515T120000
DTSTAMP;VALUE=DATE-TIME:20260423T003403Z
UID:bbd5910b399ddfd37cab263bebcc0147
CREATED;VALUE=DATE-TIME:20210515T000000Z
CATEGORIES:Literatura
LOCATION:Mitjançant l´aplicatiu ZOOM
ORGANIZER:Biblioteca Can Milans
DESCRIPTION:El silencio del bosque de Tana French
URL:https://caldetes.cat/document.php?id=8302
END:VEVENT
END:VCALENDAR