BEGIN:VCALENDAR
VERSION:2.0
PRODID:-//Plone.org//NONSGML plone.app.event//EN
X-WR-TIMEZONE:Europe/Madrid
BEGIN:VEVENT
SUMMARY:Curs d'Anglès + Drets Laborals
DTSTART;TZID=Europe/Madrid;VALUE=DATE-TIME:20210513T170000
DTEND;TZID=Europe/Madrid;VALUE=DATE-TIME:20210513T180000
DTSTAMP;VALUE=DATE-TIME:20260420T093102Z
UID:f0f86d13252d11a7c485e8d6792bb9f7
CREATED;VALUE=DATE-TIME:20210513T000000Z
CATEGORIES:Cursos
LOCATION:Espai Jove - La Fabriqueta (La Riera 5-9, entrada per Camí Ral).
URL:https://caldetes.cat/document.php?id=8303
END:VEVENT
END:VCALENDAR