BEGIN:VCALENDAR
VERSION:2.0
PRODID:-//Plone.org//NONSGML plone.app.event//EN
X-WR-TIMEZONE:Europe/Madrid
BEGIN:VEVENT
SUMMARY:VISITA GUIADA DE LA COL·LECCIÓ PERMANENT DE LA FUNDACIÓ PALAU
DTSTART;TZID=Europe/Madrid;VALUE=DATE-TIME:20210424T120000
DTEND;TZID=Europe/Madrid;VALUE=DATE-TIME:20210424T130000
DTSTAMP;VALUE=DATE-TIME:20260424T231641Z
UID:ec90abc2d6a394c36031d3633b37855a
CREATED;VALUE=DATE-TIME:20210424T000000Z
CATEGORIES:Exposició
LOCATION:Fundació Palau - La Riera, 54
ORGANIZER:Fundació Palau i Ajuntament de Caldes d'Estrac
COMMENT:Preu: Entrada lliure
Durada: 1 hora
DESCRIPTION:Diada de Sant Jordi
URL:https://caldetes.cat/document.php?id=8307
END:VEVENT
END:VCALENDAR