BEGIN:VCALENDAR
VERSION:2.0
PRODID:-//Plone.org//NONSGML plone.app.event//EN
X-WR-TIMEZONE:Europe/Madrid
BEGIN:VEVENT
SUMMARY:Bàsquet, partit de la fase prèvia, Grup 2, C.C. Categoria masculí (Jornada 3)
DTSTART;TZID=Europe/Madrid;VALUE=DATE-TIME:20101002T163000
DTEND;TZID=Europe/Madrid;VALUE=DATE-TIME:20101002T173000
DTSTAMP;VALUE=DATE-TIME:20260424T014126Z
UID:e5793f2c0306c6e3ff56c1c0c97a7973
CREATED;VALUE=DATE-TIME:20101002T000000Z
LOCATION:Pavelló Poliesportiu Municipal
ORGANIZER:Club Bàsquet Caldes d'Estrac
URL:https://caldetes.cat/document.php?id=831
END:VEVENT
END:VCALENDAR