BEGIN:VCALENDAR
VERSION:2.0
PRODID:-//Plone.org//NONSGML plone.app.event//EN
X-WR-TIMEZONE:Europe/Madrid
BEGIN:VEVENT
SUMMARY:Mural Col·laboratiu a l'Esplanada de Can Muntanyà
DTSTART;TZID=Europe/Madrid;VALUE=DATE-TIME:20210515T000000
DTEND;TZID=Europe/Madrid;VALUE=DATE-TIME:20210515T010000
DTSTAMP;VALUE=DATE-TIME:20260421T005807Z
UID:fb3bf8f03a9043c3972cfb214e91eed0
CREATED;VALUE=DATE-TIME:20210515T000000Z
CATEGORIES:Infantils
LOCATION:Esplanada Can Muntanyà
ORGANIZER:Àrea de Joventut
URL:https://caldetes.cat/document.php?id=8316
END:VEVENT
END:VCALENDAR