BEGIN:VCALENDAR
VERSION:2.0
PRODID:-//Plone.org//NONSGML plone.app.event//EN
X-WR-TIMEZONE:Europe/Madrid
BEGIN:VEVENT
SUMMARY:Dia Internacional dels Museus
DTSTART;TZID=Europe/Madrid;VALUE=DATE-TIME:20210518T000000
DTEND;TZID=Europe/Madrid;VALUE=DATE-TIME:20210518T010000
DTSTAMP;VALUE=DATE-TIME:20260422T024851Z
UID:b42f734941b6f42a5649b25e1158b7ea
CREATED;VALUE=DATE-TIME:20210518T000000Z
CATEGORIES:Mostra
LOCATION:Fundació Palau - La Riera, 54
ORGANIZER:Fundació Palau
DESCRIPTION:La llanterna màgica
URL:https://caldetes.cat/document.php?id=8318
END:VEVENT
END:VCALENDAR