BEGIN:VCALENDAR
VERSION:2.0
PRODID:-//Plone.org//NONSGML plone.app.event//EN
X-WR-TIMEZONE:Europe/Madrid
BEGIN:VEVENT
SUMMARY:Jornada 2, partit de Futbol Sala, Grup 1, Preferent Catalana
DTSTART;TZID=Europe/Madrid;VALUE=DATE-TIME:20101002T183000
DTEND;TZID=Europe/Madrid;VALUE=DATE-TIME:20101002T193000
DTSTAMP;VALUE=DATE-TIME:20260423T215535Z
UID:1109f5b4ff936e212442f1c4a02104c1
CREATED;VALUE=DATE-TIME:20101002T000000Z
LOCATION:Pavelló Poliesportiu Municipal
ORGANIZER:Club Futbol Sala Caldes d'Estrac
DESCRIPTION:FS Caldes d´Estrac &OpenCurlyDoubleQuote;A&CloseCurlyDoubleQuote;  vs FS Santvicentí &OpenCurlyDoubleQuote;A&CloseCurlyDoubleQuote;
URL:https://caldetes.cat/document.php?id=832
END:VEVENT
END:VCALENDAR