BEGIN:VCALENDAR
VERSION:2.0
PRODID:-//Plone.org//NONSGML plone.app.event//EN
X-WR-TIMEZONE:Europe/Madrid
BEGIN:VEVENT
SUMMARY:Xerrada "Educar sense cridar"
DTSTART;TZID=Europe/Madrid;VALUE=DATE-TIME:20210518T180000
DTEND;TZID=Europe/Madrid;VALUE=DATE-TIME:20210518T190000
DTSTAMP;VALUE=DATE-TIME:20260424T095348Z
UID:e9b6f2885c3044190283cd9710b908e1
CREATED;VALUE=DATE-TIME:20210518T000000Z
CATEGORIES:Cursos
LOCATION:Mitjançant l'aplicatiu Zoom
COMMENT:Preu: Gratuït
URL:https://caldetes.cat/document.php?id=8327
END:VEVENT
END:VCALENDAR