BEGIN:VCALENDAR
VERSION:2.0
PRODID:-//Plone.org//NONSGML plone.app.event//EN
X-WR-TIMEZONE:Europe/Madrid
BEGIN:VEVENT
SUMMARY:2a CHALLENGE COSTA DE BARCELONA-MARESME
DTSTART;TZID=Europe/Madrid;VALUE=DATE-TIME:20101003T000000
DTEND;TZID=Europe/Madrid;VALUE=DATE-TIME:20101003T010000
DTSTAMP;VALUE=DATE-TIME:20260425T062249Z
UID:251e9d534a6f2d27f6502ce45dee2c91
CREATED;VALUE=DATE-TIME:20101003T000000Z
URL:https://caldetes.cat/document.php?id=833
END:VEVENT
END:VCALENDAR