BEGIN:VCALENDAR
VERSION:2.0
PRODID:-//Plone.org//NONSGML plone.app.event//EN
X-WR-TIMEZONE:Europe/Madrid
BEGIN:VEVENT
SUMMARY:Contes SECRETS a llocs AMAGATS de Caldes. "Llegendes encantades de Caldes d'Estrac".
DTSTART;TZID=Europe/Madrid;VALUE=DATE-TIME:20210812T190000
DTEND;TZID=Europe/Madrid;VALUE=DATE-TIME:20210812T200000
DTSTAMP;VALUE=DATE-TIME:20260423T003520Z
UID:ce2287056b874a8653edcb446a829736
CREATED;VALUE=DATE-TIME:20210812T000000Z
CATEGORIES:Literatura,Infantils
LOCATION:Si voleu saber on es farà l'hora del conte "secret", inscriu-vos-hi a l'activitat i us ho explicarem!
ORGANIZER:Biblioteca Can Milans
COMMENT:Preu: Gratuït
DESCRIPTION:A càrrec de Rosa Pou i Ingrid Domingo.
URL:https://caldetes.cat/document.php?id=8357
END:VEVENT
END:VCALENDAR