BEGIN:VCALENDAR
VERSION:2.0
PRODID:-//Plone.org//NONSGML plone.app.event//EN
X-WR-TIMEZONE:Europe/Madrid
BEGIN:VEVENT
SUMMARY:Festival Poesia i +
DTSTART;TZID=Europe/Madrid;VALUE=DATE-TIME:20210708T213000
DTEND;TZID=Europe/Madrid;VALUE=DATE-TIME:20210708T223000
DTSTAMP;VALUE=DATE-TIME:20260424T011700Z
UID:8aec843af8df315c1572152bd8d6edc8
CREATED;VALUE=DATE-TIME:20210708T000000Z
CATEGORIES:Música
LOCATION:Pèrgola Can Muntanyà - Parc Can Muntanyà
COMMENT:Preu: 15 euros
DESCRIPTION:Nacho Vegas
URL:https://caldetes.cat/document.php?id=8367
END:VEVENT
END:VCALENDAR