BEGIN:VCALENDAR
VERSION:2.0
PRODID:-//Plone.org//NONSGML plone.app.event//EN
X-WR-TIMEZONE:Europe/Madrid
BEGIN:VEVENT
SUMMARY:Festival Poesia i +
DTSTART;TZID=Europe/Madrid;VALUE=DATE-TIME:20210709T190000
DTEND;TZID=Europe/Madrid;VALUE=DATE-TIME:20210709T200000
DTSTAMP;VALUE=DATE-TIME:20260422T173417Z
UID:433df205588353bf64fc103642ef22b0
CREATED;VALUE=DATE-TIME:20210709T000000Z
CATEGORIES:Literatura,Música
LOCATION:Fundació Palau - La Riera, 54
COMMENT:Preu: 3 euros
DESCRIPTION:Gabriel Ventura + Esperit!
URL:https://caldetes.cat/document.php?id=8370
END:VEVENT
END:VCALENDAR