BEGIN:VCALENDAR
VERSION:2.0
PRODID:-//Plone.org//NONSGML plone.app.event//EN
X-WR-TIMEZONE:Europe/Madrid
BEGIN:VEVENT
SUMMARY:Festival Poesia i +
DTSTART;TZID=Europe/Madrid;VALUE=DATE-TIME:20210711T180000
DTEND;TZID=Europe/Madrid;VALUE=DATE-TIME:20210711T190000
DTSTAMP;VALUE=DATE-TIME:20260422T180927Z
UID:cf6ec1322b5a62592601ccb6cb5a2951
CREATED;VALUE=DATE-TIME:20210711T000000Z
COMMENT:Preu: Entrada lliure, inscripció prèvia
DESCRIPTION:Accions a la muntanya: Mar Serinyà, Marta Vergonyós i Rosa Pou
URL:https://caldetes.cat/document.php?id=8379
END:VEVENT
END:VCALENDAR