BEGIN:VCALENDAR
VERSION:2.0
PRODID:-//Plone.org//NONSGML plone.app.event//EN
X-WR-TIMEZONE:Europe/Madrid
BEGIN:VEVENT
SUMMARY:DARRERES VISITES GUIADES!
DTSTART;TZID=Europe/Madrid;VALUE=DATE-TIME:20210904T170000
DTEND;TZID=Europe/Madrid;VALUE=DATE-TIME:20210904T180000
DTSTAMP;VALUE=DATE-TIME:20260421T185858Z
UID:5bce44c0018c986dde148ce877f0d631
CREATED;VALUE=DATE-TIME:20210904T000000Z
CATEGORIES:Exposició
LOCATION:Fundació Palau - La Riera, 54
ORGANIZER:Fundació Palau
COMMENT:Preu: 6 euros per persona
Durada: 1h15
DESCRIPTION:D'un roig encès. Miró, Palau i Fabre, Perucho i Picasso
URL:https://caldetes.cat/document.php?id=8483
END:VEVENT
END:VCALENDAR