BEGIN:VCALENDAR
VERSION:2.0
PRODID:-//Plone.org//NONSGML plone.app.event//EN
X-WR-TIMEZONE:Europe/Madrid
BEGIN:VEVENT
SUMMARY:CLUB DE LECTURA "5 de Negra": Inocencia robada
DTSTART;TZID=Europe/Madrid;VALUE=DATE-TIME:20211016T103000
DTEND;TZID=Europe/Madrid;VALUE=DATE-TIME:20211016T113000
DTSTAMP;VALUE=DATE-TIME:20260421T005634Z
UID:86011ac7d0a81f3aa0304d99bdfc2f3c
CREATED;VALUE=DATE-TIME:20211016T000000Z
CATEGORIES:Literatura
LOCATION:Biblioteca Can Milans - C/ Esglèsia, 6
ORGANIZER:Biblioteca Can Milans
COMMENT:Preu: Gratuït
DESCRIPTION:D'Arnaldur Indridason
URL:https://caldetes.cat/document.php?id=8516
END:VEVENT
END:VCALENDAR