BEGIN:VCALENDAR
VERSION:2.0
PRODID:-//Plone.org//NONSGML plone.app.event//EN
X-WR-TIMEZONE:Europe/Madrid
BEGIN:VEVENT
SUMMARY:TALLER per a FAMÍLIES per aprendre a explicar CONTES
DTSTART;TZID=Europe/Madrid;VALUE=DATE-TIME:20211113T103000
DTEND;TZID=Europe/Madrid;VALUE=DATE-TIME:20211113T113000
DTSTAMP;VALUE=DATE-TIME:20260423T062708Z
UID:8f79751c432873139ad12e49634a357b
CREATED;VALUE=DATE-TIME:20211113T000000Z
CATEGORIES:Cursos,Literatura
LOCATION:Biblioteca Can Milans - C/ Esglèsia, 6
ORGANIZER:Biblioteca Can Milans i Ajuntament de Caldes d'Estrac
COMMENT:Preu: Gratuït
Durada: De 10:30h a 12:30h
DESCRIPTION:A càrrec de Marta Catalan
URL:https://caldetes.cat/document.php?id=8521
END:VEVENT
END:VCALENDAR