BEGIN:VCALENDAR
VERSION:2.0
PRODID:-//Plone.org//NONSGML plone.app.event//EN
X-WR-TIMEZONE:Europe/Madrid
BEGIN:VEVENT
SUMMARY:HORA DEL CONTE per a LA MARATÓ "L'avi feréstec"
DTSTART;TZID=Europe/Madrid;VALUE=DATE-TIME:20211203T180000
DTEND;TZID=Europe/Madrid;VALUE=DATE-TIME:20211203T190000
DTSTAMP;VALUE=DATE-TIME:20260423T074100Z
UID:667a26485da4dc3d34ff5d0ffc611cb8
CREATED;VALUE=DATE-TIME:20211203T000000Z
CATEGORIES:Literatura,Infantils
LOCATION:Sala Cultural - 1r pis de l'Ajuntament de Caldes d'Estrac, Pl. de la Vila s/n
ORGANIZER:Biblioteca Can Milans i Ajuntament de Caldes d'Estrac
COMMENT:Preu: Gratuït
DESCRIPTION:A càrrec de Lídia Clua
URL:https://caldetes.cat/document.php?id=8523
END:VEVENT
END:VCALENDAR