BEGIN:VCALENDAR
VERSION:2.0
PRODID:-//Plone.org//NONSGML plone.app.event//EN
X-WR-TIMEZONE:Europe/Madrid
BEGIN:VEVENT
SUMMARY:Postals d'hivern. Especial Nadal.
DTSTART;TZID=Europe/Madrid;VALUE=DATE-TIME:20211218T113000
DTEND;TZID=Europe/Madrid;VALUE=DATE-TIME:20211218T123000
DTSTAMP;VALUE=DATE-TIME:20260426T033059Z
UID:bf88665a9fdebce32d5b7a05bfff8ca8
CREATED;VALUE=DATE-TIME:20211218T000000Z
CATEGORIES:Infantils
LOCATION:Fundació Palau - La Riera, 54
ORGANIZER:Fundació Palau i Ajuntament de Caldes d'Estrac
COMMENT:Preu: Gratuït
URL:https://caldetes.cat/document.php?id=8535
END:VEVENT
END:VCALENDAR