BEGIN:VCALENDAR
VERSION:2.0
PRODID:-//Plone.org//NONSGML plone.app.event//EN
X-WR-TIMEZONE:Europe/Madrid
BEGIN:VEVENT
SUMMARY:TROBADA AMB L'AUTOR
DTSTART;TZID=Europe/Madrid;VALUE=DATE-TIME:20211211T110000
DTEND;TZID=Europe/Madrid;VALUE=DATE-TIME:20211211T120000
DTSTAMP;VALUE=DATE-TIME:20260423T202957Z
UID:e941faaf4ed58ef0bda15a27db937308
CREATED;VALUE=DATE-TIME:20211211T000000Z
CATEGORIES:Literatura
LOCATION:Sala Cultural - 1r pis de l'Ajuntament de Caldes d'Estrac, Pl. de la Vila s/n
ORGANIZER:Biblioteca Can Milans i Ajuntament de Caldes d'Estrac
COMMENT:Preu: Gratuït
DESCRIPTION:Conversem amb Víctor del Árbol sobre la seva novel·la 'Abans de gairebé tot'
URL:https://caldetes.cat/document.php?id=8541
END:VEVENT
END:VCALENDAR