BEGIN:VCALENDAR
VERSION:2.0
PRODID:-//Plone.org//NONSGML plone.app.event//EN
X-WR-TIMEZONE:Europe/Madrid
BEGIN:VEVENT
SUMMARY:SORTEIG de les PANERES de NADAL
DTSTART;TZID=Europe/Madrid;VALUE=DATE-TIME:20211216T180000
DTEND;TZID=Europe/Madrid;VALUE=DATE-TIME:20211216T190000
DTSTAMP;VALUE=DATE-TIME:20260422T002004Z
UID:a0f8ec55497892673ad887e90e5f67be
CREATED;VALUE=DATE-TIME:20211216T000000Z
CATEGORIES:Festa
LOCATION:Biblioteca Can Milans - C/ Esglèsia, 6
ORGANIZER:Biblioteca Can Milans
COMMENT:Preu: Gratuït
DESCRIPTION:La biblioteca celebra el Nadal amb tots i totes vosaltres!
URL:https://caldetes.cat/document.php?id=8542
END:VEVENT
END:VCALENDAR