BEGIN:VCALENDAR
VERSION:2.0
PRODID:-//Plone.org//NONSGML plone.app.event//EN
X-WR-TIMEZONE:Europe/Madrid
BEGIN:VEVENT
SUMMARY:Commemoració del 81 unè aniversari de l'afusellament del president Lluís Companys
DTSTART;TZID=Europe/Madrid;VALUE=DATE-TIME:20211015T190000
DTEND;TZID=Europe/Madrid;VALUE=DATE-TIME:20211015T200000
DTSTAMP;VALUE=DATE-TIME:20260421T225425Z
UID:c13382a112f172a80c01f04784ce5970
CREATED;VALUE=DATE-TIME:20211015T000000Z
LOCATION:Monument de Lluís Companys, davant del cementiri municipal
DESCRIPTION:Ofrena floral
URL:https://caldetes.cat/document.php?id=8544
END:VEVENT
END:VCALENDAR