BEGIN:VCALENDAR
VERSION:2.0
PRODID:-//Plone.org//NONSGML plone.app.event//EN
X-WR-TIMEZONE:Europe/Madrid
BEGIN:VEVENT
SUMMARY:ELS DIJOUS A LA PALAU
DTSTART;TZID=Europe/Madrid;VALUE=DATE-TIME:20211028T183000
DTEND;TZID=Europe/Madrid;VALUE=DATE-TIME:20211028T193000
DTSTAMP;VALUE=DATE-TIME:20260421T185601Z
UID:9366546782261e46ab0f20fe4a0dc697
CREATED;VALUE=DATE-TIME:20211028T000000Z
CATEGORIES:Conferència
LOCATION:Fundació Palau - La Riera, 54
ORGANIZER:Fundació Palau
COMMENT:Preu: Gratuït
Durada: 1h30
DESCRIPTION:Presentació dels llibres 'Estimat Picasso', 'Teoria dels colors' i 'D'un roig encès'
URL:https://caldetes.cat/document.php?id=8567
END:VEVENT
END:VCALENDAR