BEGIN:VCALENDAR
VERSION:2.0
PRODID:-//Plone.org//NONSGML plone.app.event//EN
X-WR-TIMEZONE:Europe/Madrid
BEGIN:VEVENT
SUMMARY:TALLER DE MICRO OBERT
DTSTART;TZID=Europe/Madrid;VALUE=DATE-TIME:20211223T170000
DTEND;TZID=Europe/Madrid;VALUE=DATE-TIME:20211223T180000
DTSTAMP;VALUE=DATE-TIME:20260424T200548Z
UID:3ed2df47e384974a3fb192ad4259f92d
CREATED;VALUE=DATE-TIME:20211223T000000Z
LOCATION:Espai Jove - La Fabriqueta (La Riera 5-9, entrada per Camí Ral).
COMMENT:Preu: Gratuït
URL:https://caldetes.cat/document.php?id=8579
END:VEVENT
END:VCALENDAR